BEGIN:VCALENDAR
VERSION:2.0
PRODID:-//Inside:Out - ECPv6.15.15//NONSGML v1.0//EN
CALSCALE:GREGORIAN
METHOD:PUBLISH
X-WR-CALNAME:Inside:Out
X-ORIGINAL-URL:https://inside-out-wuppertal.de
X-WR-CALDESC:Veranstaltungen für Inside:Out
REFRESH-INTERVAL;VALUE=DURATION:PT1H
X-Robots-Tag:noindex
X-PUBLISHED-TTL:PT1H
BEGIN:VTIMEZONE
TZID:Europe/Berlin
BEGIN:DAYLIGHT
TZOFFSETFROM:+0100
TZOFFSETTO:+0200
TZNAME:CEST
DTSTART:20230326T010000
END:DAYLIGHT
BEGIN:STANDARD
TZOFFSETFROM:+0200
TZOFFSETTO:+0100
TZNAME:CET
DTSTART:20231029T010000
END:STANDARD
BEGIN:DAYLIGHT
TZOFFSETFROM:+0100
TZOFFSETTO:+0200
TZNAME:CEST
DTSTART:20240331T010000
END:DAYLIGHT
BEGIN:STANDARD
TZOFFSETFROM:+0200
TZOFFSETTO:+0100
TZNAME:CET
DTSTART:20241027T010000
END:STANDARD
BEGIN:DAYLIGHT
TZOFFSETFROM:+0100
TZOFFSETTO:+0200
TZNAME:CEST
DTSTART:20250330T010000
END:DAYLIGHT
BEGIN:STANDARD
TZOFFSETFROM:+0200
TZOFFSETTO:+0100
TZNAME:CET
DTSTART:20251026T010000
END:STANDARD
END:VTIMEZONE
BEGIN:VEVENT
DTSTART;TZID=Europe/Berlin:20240906T160000
DTEND;TZID=Europe/Berlin:20240906T180000
DTSTAMP:20260421T173124
CREATED:20240808T115156Z
LAST-MODIFIED:20240824T165412Z
UID:10000140-1725638400-1725645600@inside-out-wuppertal.de
SUMMARY:Feel the flow - Tanzworkshop
DESCRIPTION:Feel the flow\n\nden eigenen Rhythmus spüren.\nEin Tanzworkshop für FLINTA*\nIn diesem Tanzworkshopgeht es darum über die Bewegung zu Musik deinen eigenen\nKörper zu spüren\, dich tragen zu lassen und in deinen eigenen Rhythmus zu finden.\nDergeschützte Raum bietet dir die Möglichkeit in Kontakt mit dir selbst zu kommen und\ndeinen Gefühlen Ausdruck zu verleihen. Wenn es für dich passt ist auch Raum für einen\ntänzerischen Dialog mit anderen FLINTA*.\n\n\nLeitung: Ulrike Schmidt\nDer Workshop ist kostenfrei und findet im Rahmen der Wochen der Vielfalt in Kooperation mit dem\nQueeren Zentrum statt.\nAnmeldung erbeten bis 01.09. unter:\nu.schmidt@frauenberatungwuppertal.de\noder Tel. 0202-306007
URL:https://inside-out-wuppertal.de/event/feel-the-flow-tanzworkshop/
CATEGORIES:CSD Wuppertal
END:VEVENT
END:VCALENDAR