BEGIN:VCALENDAR
VERSION:2.0
PRODID:-//Inside:Out - ECPv6.15.15//NONSGML v1.0//EN
CALSCALE:GREGORIAN
METHOD:PUBLISH
X-WR-CALNAME:Inside:Out
X-ORIGINAL-URL:https://inside-out-wuppertal.de
X-WR-CALDESC:Veranstaltungen für Inside:Out
REFRESH-INTERVAL;VALUE=DURATION:PT1H
X-Robots-Tag:noindex
X-PUBLISHED-TTL:PT1H
BEGIN:VTIMEZONE
TZID:Europe/Berlin
BEGIN:DAYLIGHT
TZOFFSETFROM:+0100
TZOFFSETTO:+0200
TZNAME:CEST
DTSTART:20250330T010000
END:DAYLIGHT
BEGIN:STANDARD
TZOFFSETFROM:+0200
TZOFFSETTO:+0100
TZNAME:CET
DTSTART:20251026T010000
END:STANDARD
BEGIN:DAYLIGHT
TZOFFSETFROM:+0100
TZOFFSETTO:+0200
TZNAME:CEST
DTSTART:20260329T010000
END:DAYLIGHT
BEGIN:STANDARD
TZOFFSETFROM:+0200
TZOFFSETTO:+0100
TZNAME:CET
DTSTART:20261025T010000
END:STANDARD
BEGIN:DAYLIGHT
TZOFFSETFROM:+0100
TZOFFSETTO:+0200
TZNAME:CEST
DTSTART:20270328T010000
END:DAYLIGHT
BEGIN:STANDARD
TZOFFSETFROM:+0200
TZOFFSETTO:+0100
TZNAME:CET
DTSTART:20271031T010000
END:STANDARD
END:VTIMEZONE
BEGIN:VEVENT
DTSTART;TZID=Europe/Berlin:20260430T200000
DTEND;TZID=Europe/Berlin:20260501T010000
DTSTAMP:20260420T070050
CREATED:20260403T104412Z
LAST-MODIFIED:20260407T154645Z
UID:10001852-1777579200-1777597200@inside-out-wuppertal.de
SUMMARY:Urania präsentiert Walpurgis-Schwoof - Urania presents Walpurgis Night Dance
DESCRIPTION:Die Urania-Frauen laden ein zur traditionellen Walpurgis-Party am 30. April ab 20 Uhr. Wir freuen uns\, mit Euch tanzend aus dem Winter raus und in den Mai rein zu starten. \nThe Urania women invite you to their traditional Walpurgis Party on 30 April from 8 pm. We look forward to dancing the winter away and welcoming in May with you.
URL:https://inside-out-wuppertal.de/event/urania-praesentiert-walpurgis-schwoof-urania-presents-walpurgis-night-dance/
CATEGORIES:Urania
END:VEVENT
BEGIN:VEVENT
DTSTART;TZID=Europe/Berlin:20261120T180000
DTEND;TZID=Europe/Berlin:20261120T220000
DTSTAMP:20260420T070050
CREATED:20260326T190852Z
LAST-MODIFIED:20260326T190852Z
UID:10001596-1795197600-1795212000@inside-out-wuppertal.de
SUMMARY:Lesung mit Sophie Herrndorf: Gehen wollen\, bleiben sollen
DESCRIPTION:Zwei Frauen suchen ihren Platz in einer Welt\, die von Erwartungen an Mütter und Töchter geprägt ist. Toni ist lesbisch und lebt mit ihrer Tochter Henni in Köln. Sie hadert mit ihrer Rolle als Mutter und sehnt sich nach ihrem alten Leben als Kriegsfotografin – nach Bedeutsamkeit\, Selbstbestimmung und Nervenkitzel. Jetzt steht sie vor einer Entscheidung\, die alles verändern könnte. Zwischen Kind und Kamera bahnen sich Erinnerungen\, Zweifel und Sehnsüchte ihren Weg. Chris ist Journalistin. Kurz vor einem Auslandseinsatz erreicht sie die Nachricht\, dass ihre Mutter schwer erkrankt ist. Am Sterbebett kehrt sie in die Vergangenheit zurück: eine Kindheit voller Aufgaben\, eine traumatisierte Mutter\, ein abwesender Vater. Während sie den Abschied vorbereitet\, begegnet sie Steph\, und zum ersten Mal entsteht echte Nähe. Gehen wollen\, bleiben sollen ist ein politisch-poetischer Roman über lesbische Mutterschaft\, nonbinäre Liebe und das Ringen um Selbstbestimmung. \nIm Anschluss laden Doro und Annette zur queeren Kneipe\, also bleib gern noch da und genieße den Abend. \nAb 18 Uhr gehts los. Wir freuen uns auf dich!
URL:https://inside-out-wuppertal.de/event/lesung-mit-sophie-herrndorf-gehen-wollen-bleiben-sollen/
LOCATION:Inside:Out\, Hochstraße 60\, Wuppertal\, 42105
CATEGORIES:Urania
ATTACH;FMTTYPE=image/jpeg:https://inside-out-wuppertal.de/wp-content/uploads/2026/03/Logo-Urania_ab2019.jpg
END:VEVENT
END:VCALENDAR