BEGIN:VCALENDAR
VERSION:2.0
PRODID:-//Inside:Out - ECPv6.15.15//NONSGML v1.0//EN
CALSCALE:GREGORIAN
METHOD:PUBLISH
X-WR-CALNAME:Inside:Out
X-ORIGINAL-URL:https://inside-out-wuppertal.de
X-WR-CALDESC:Veranstaltungen für Inside:Out
REFRESH-INTERVAL;VALUE=DURATION:PT1H
X-Robots-Tag:noindex
X-PUBLISHED-TTL:PT1H
BEGIN:VTIMEZONE
TZID:Europe/Berlin
BEGIN:DAYLIGHT
TZOFFSETFROM:+0100
TZOFFSETTO:+0200
TZNAME:CEST
DTSTART:20230326T010000
END:DAYLIGHT
BEGIN:STANDARD
TZOFFSETFROM:+0200
TZOFFSETTO:+0100
TZNAME:CET
DTSTART:20231029T010000
END:STANDARD
BEGIN:DAYLIGHT
TZOFFSETFROM:+0100
TZOFFSETTO:+0200
TZNAME:CEST
DTSTART:20240331T010000
END:DAYLIGHT
BEGIN:STANDARD
TZOFFSETFROM:+0200
TZOFFSETTO:+0100
TZNAME:CET
DTSTART:20241027T010000
END:STANDARD
BEGIN:DAYLIGHT
TZOFFSETFROM:+0100
TZOFFSETTO:+0200
TZNAME:CEST
DTSTART:20250330T010000
END:DAYLIGHT
BEGIN:STANDARD
TZOFFSETFROM:+0200
TZOFFSETTO:+0100
TZNAME:CET
DTSTART:20251026T010000
END:STANDARD
END:VTIMEZONE
BEGIN:VEVENT
DTSTART;VALUE=DATE:20241025
DTEND;VALUE=DATE:20241028
DTSTAMP:20260423T045451
CREATED:20240913T191929Z
LAST-MODIFIED:20240913T191929Z
UID:10000153-1729814400-1730073599@inside-out-wuppertal.de
SUMMARY:Queering the City
DESCRIPTION:
URL:https://inside-out-wuppertal.de/event/queering-the-city/
LOCATION:Inside:Out\, Hochstraße 60\, Wuppertal\, 42105
ORGANIZER;CN="Inside%3AOut":MAILTO:info@inside-out-wuppertal.de
END:VEVENT
BEGIN:VEVENT
DTSTART;TZID=Europe/Berlin:20241003T163000
DTEND;TZID=Europe/Berlin:20241003T220000
DTSTAMP:20260423T045451
CREATED:20240729T091512Z
LAST-MODIFIED:20240729T091512Z
UID:10000135-1727973000-1727992800@inside-out-wuppertal.de
SUMMARY:Intern
DESCRIPTION:
URL:https://inside-out-wuppertal.de/event/intern/
LOCATION:Inside:Out\, Hochstraße 60\, Wuppertal\, 42105
CATEGORIES:geschlossene Veranstaltung
ATTACH;FMTTYPE=image/jpeg:https://inside-out-wuppertal.de/wp-content/uploads/2020/11/pokal.jpg
ORGANIZER;CN="Inside%3AOut":MAILTO:info@inside-out-wuppertal.de
END:VEVENT
BEGIN:VEVENT
DTSTART;TZID=Europe/Berlin:20240921T110000
DTEND;TZID=Europe/Berlin:20240921T140000
DTSTAMP:20260423T045451
CREATED:20240808T121342Z
LAST-MODIFIED:20240909T131602Z
UID:10000142-1726916400-1726927200@inside-out-wuppertal.de
SUMMARY:Besuch Sven Lehmann
DESCRIPTION:
URL:https://inside-out-wuppertal.de/event/reservierung-vorstand/
LOCATION:Inside:Out\, Hochstraße 60\, Wuppertal\, 42105
ORGANIZER;CN="Inside%3AOut":MAILTO:info@inside-out-wuppertal.de
END:VEVENT
BEGIN:VEVENT
DTSTART;TZID=Europe/Berlin:20240901T130000
DTEND;TZID=Europe/Berlin:20240901T180000
DTSTAMP:20260423T045451
CREATED:20240824T170331Z
LAST-MODIFIED:20240824T170331Z
UID:10000146-1725195600-1725213600@inside-out-wuppertal.de
SUMMARY:2. Queeres Generationencafé
DESCRIPTION:Unsere Idee ist klar: Menschen jeder Generation\, die sich dem queeren Spektrum zugehörig fühlen\, kommen hier zusammen und quatschen über ihre Erfahrungen\, Erlebnisse und Ideen. Wir wollen achtsam auf Themen schauen\, die du mitbringst\, Fragen\, die du dir stellst\, gemeinsam beantworten und hoffen damit den Zusammenhalt zu stärken und uns gegenseitig respektvoll zu empowern. \nWie war das Coming Out früher – wie ist es heute? Was beschäftigte queere Menschen früher\, wie geht es ihnen heute? \nUnd natürlich auch: Wie sieht es speziell in Wuppertal aus? Gibt es Projekte\, die wir gemeinsam starten und/oder unterstützen wollen? Wie können wir uns vernetzen? Wo können wir uns in städtische Strukturen einbringen und diese ehrenamtliche Arbeit auf viele Schultern verteilen? Was bedeutet queere ehrenamtliche Arbeit im Einzelnen\, wer leistet sie wo und wie läuft das eigentlich in Wuppertal? \nWir treffen uns am Sonntag\, 1. September 2024\, um 14 Uhr. \nDu kannst dich maßgeblich in die Gestaltung einbringen\, denn der Erfolg und die Fortführung des queeren Generationencafés hängt auch von deinem Interesse daran ab. \nWir freuen uns auf dich! \nEine Kooperation von Inside:Out mit den Urania-Frauen und dem QueerReferat der Uni Wuppertal.
URL:https://inside-out-wuppertal.de/event/2-queeres-generationencafe/
LOCATION:Inside:Out\, Hochstraße 60\, Wuppertal\, 42105
CATEGORIES:Urania
ORGANIZER;CN="Inside%3AOut":MAILTO:info@inside-out-wuppertal.de
END:VEVENT
BEGIN:VEVENT
DTSTART;TZID=Europe/Berlin:20240830T113000
DTEND;TZID=Europe/Berlin:20240830T140000
DTSTAMP:20260423T045451
CREATED:20240818T135145Z
LAST-MODIFIED:20240818T135256Z
UID:10000144-1725017400-1725026400@inside-out-wuppertal.de
SUMMARY:Intern Runder Tisch LSBTIQ*A+ (AS)
DESCRIPTION:
URL:https://inside-out-wuppertal.de/event/intern-runder-tisch-lsbtiqa-as/
LOCATION:Inside:Out\, Hochstraße 60\, Wuppertal\, 42105
CATEGORIES:geschlossene Veranstaltung
ATTACH;FMTTYPE=image/png:https://inside-out-wuppertal.de/wp-content/uploads/2020/12/Logo_RT-LSBTIQ-.png
ORGANIZER;CN="Inside%3AOut":MAILTO:info@inside-out-wuppertal.de
END:VEVENT
END:VCALENDAR